BEGIN:VCALENDAR
VERSION:2.0
PRODID:-//jEvents 2.0 for Joomla//EN
CALSCALE:GREGORIAN
METHOD:PUBLISH
BEGIN:VTIMEZONE
TZID:Europe/Berlin
BEGIN:STANDARD
DTSTART:20240304T210000
RDATE:20240331T030000
TZOFFSETFROM:+0200
TZOFFSETTO:+0100
TZNAME:Europe/Berlin CET
END:STANDARD
BEGIN:STANDARD
DTSTART:20241027T020000
RDATE:20250330T030000
TZOFFSETFROM:+0200
TZOFFSETTO:+0100
TZNAME:Europe/Berlin CET
END:STANDARD
BEGIN:DAYLIGHT
DTSTART:20240331T030000
RDATE:20241027T020000
TZOFFSETFROM:+0100
TZOFFSETTO:+0200
TZNAME:Europe/Berlin CEST
END:DAYLIGHT
END:VTIMEZONE
BEGIN:VEVENT
UID:34bb7bb0945502c150d93e507bccffad
CATEGORIES:Busfahrten
CREATED:20250225T212705
SUMMARY:Champions League-Heimspielfahrt gegen Bayer Leverkusen
DESCRIPTION:<p>Wir haben Karten für das Champion-League- Spiel FC Bayern gegen Bayer Le
 verkusen in der Allianz Arena. Das Spiel findet am 05.03.25 statt. Anstoß i
 st um 21 Uhr! Zustiegsmöglichkeiten sind wieder in Wurmannsquick um 17.00 U
 hr, Mitterskirchen beim Gasthaus Rothneichner um 17.15Uhr, anschließend in 
 Reischach und in Eisenfelden. Wir haben 35 Karten Stehplatz für jeweils 19 
 Euro und 10 Stehplatzkarten ermäßigt für jeweils 9,50 Euro. Alle Stehplatzk
 arten sind in der Südkurve! Wer eine Stehplatzkarte ermäßigt bucht und kein
 en Grund für eine Ermäßigung besitzt (Rentner, Pensionär, Behindertenauswei
 s, Bürgergeld-Empfänger...), kann diese zu einer "normalen" Stehplatzkarte 
 aufwerten, indem er am Stadioneingang die Differenz zur normalen Karte entr
 ichtet! Dies sind 9,50 Euro! Wer keinen Stehplatz mehr ergattert, kann sich
  auf die Wartelisten setzen lassen, da immer wieder kurzfristig Karten frei
  werden!</p>
DTSTAMP:20260422T060714
DTSTART;TZID=Europe/Berlin:20250305T210000
DTEND;TZID=Europe/Berlin:20250305T224500
SEQUENCE:0
TRANSP:OPAQUE
END:VEVENT
END:VCALENDAR