BEGIN:VCALENDAR
VERSION:2.0
PRODID:-//jEvents 2.0 for Joomla//EN
CALSCALE:GREGORIAN
METHOD:PUBLISH
BEGIN:VTIMEZONE
TZID:Europe/Berlin
BEGIN:STANDARD
DTSTART:20241027T020000
RDATE:20250330T030000
TZOFFSETFROM:+0200
TZOFFSETTO:+0100
TZNAME:Europe/Berlin CET
END:STANDARD
BEGIN:DAYLIGHT
DTSTART:20240926T000000
RDATE:20241027T020000
TZOFFSETFROM:+0100
TZOFFSETTO:+0200
TZNAME:Europe/Berlin CEST
END:DAYLIGHT
END:VTIMEZONE
BEGIN:VEVENT
UID:341f55ab4f711491fce83e54ea283119
CATEGORIES:FanClub-Termine
CREATED:20250225T213147
SUMMARY:Fanclub Ausflug
DESCRIPTION:<p>1. Tag: Wikingerschifffahrt und Wikingerspiele<br />Anreise mit Brotzeit
 pause nach Obermühl an der Donau. Hier steigen Sie sofort auf das authentis
 che Wikingerschiff Neufundland von Alois Koblmüller. Erlebe die majestätisc
 he Donau aus einer ganz neuen Perspektive. Tauche ein in das Leben der berü
 hmtesten Seefahrer der Welt. Bei einer 1,5- Stündigen Rundfahrt durch die s
 agenumwobene Schlögener Schlinge und wieder zurück nach Obermühl fühlt man 
 sich zurückversetzt in Zeiten von Barbaren und Halunken. Nach der Rückkunft
  in fahren wir weiter ins nahegelegene Wikingerdorf in Exlau wo man sich am
  Wikingerbuffet bei Spareribs, Brat'l und Stelze mit Knödeln, Kartoffeln un
 d Krautsalat ganz stilecht stärken kann.<br />Nach einer entspannten Mittag
 spause starten wir das Wikingerturnier. Man kann sich untereinander messen 
 unteranderem beim Pfeil- und Bogenschießen, Speerwerfen und Hufeisenwerfen.
  Nach einem erlebnisreichen Tag fahren wir weiter nach Linz wo wir das Hote
 l Motel One Linz Hauptplatz in sehr zentraler Lage für die Gruppe reservier
 t haben. Check-in und Abendessen im Stigl Klosterhof in Fußnähe.<br />Samst
 ag 27.09.2025:<br />06.30 - 09.30 Uhr Anfahrt nach A-4131 Obermühl inkl. 30
  Min. Brotzeitpause (ca. 120 km - Fahrzeit 2,5 Std.) 10.00 - 11.30 Uhr Wiki
 ngerschiff Rundfahrt ab/bis Obermühl 25,00 Euro pro Person (bestätigt) <br 
 />11.45 -12.00 Uhr Fahrt ins Wikingerdorf Exlau (ca. 8 km) <br />12.30-14.0
 0 Uhr Wikingerbuffet € 14,40 pro Person (bestätigt)<br />14.30- 15.30 Uhr W
 ikingerturnier 6,00 Euro pro Person (bestätigt)<br />Ab ca. 16.00 Uhr Fahrt
  nach Unz (ca. 36 km - Fahrzeit max. 1 Std.) und Check-in im Hotel Motel On
 e Hauptplatz 19.00 Uhr Abendessen Stigl Klosterhof, Landstraße 30, ca. 550 
 m Fußweg vom Hotel (bestätigt)<br />2. Tag: Baumkronenweg Kopfing<br />Nach
  dem Frühstück Check-Out und Fahrt Richtung Heimat über Kopfing. Spazieren 
 Sie über den Innviertler Baumwipfeln, auf dem wahrscheinlich längsten Baumk
 ronenweg der Welt.<br />Über eine Länge von mehr als 1.000 Metern und bis z
 u 15 Meter über dem Waldboden erstreckt sich die beeindruckende Holzkonstru
 ktion durch die Baumkronen des Sauwaldes. Erleben Sie auf einem Rundweg in 
 luftiger Höhe einzigartige Perspektiven in unberührter Natur. An über 30 Er
 lebnisstationen entlang des Weges kann man die Flora und Fauna des Waldes a
 uf eigene <br />Faust erkunden. Höhepunkt ist der 40 m hohe Aussichtsturm m
 it einem herrlichen Ausblick über das Dreiländereck Österreich-Deutschland-
 Tschechien und an klaren Tagen auch bis in die<br />Alpen. Mittagessen im R
 estaurant Oachkatzl für die ganze Gruppe. Anschließend Heimfahrt nach Mitte
 rskirchen.</p>
DTSTAMP:20260422T010530
DTSTART;TZID=Europe/Berlin;VALUE=DATE:20250927
DTEND;TZID=Europe/Berlin;VALUE=DATE:20250929
SEQUENCE:0
TRANSP:OPAQUE
END:VEVENT
END:VCALENDAR