BEGIN:VCALENDAR
VERSION:2.0
PRODID:-//jEvents 2.0 for Joomla//EN
CALSCALE:GREGORIAN
METHOD:PUBLISH
BEGIN:VTIMEZONE
TZID:Europe/Berlin
BEGIN:STANDARD
DTSTART:20241027T020000
RDATE:20250330T030000
TZOFFSETFROM:+0200
TZOFFSETTO:+0100
TZNAME:Europe/Berlin CET
END:STANDARD
BEGIN:DAYLIGHT
DTSTART:20240523T190000
RDATE:20241027T020000
TZOFFSETFROM:+0100
TZOFFSETTO:+0200
TZNAME:Europe/Berlin CEST
END:DAYLIGHT
END:VTIMEZONE
BEGIN:VEVENT
UID:eeb8d7c28054db1989482a70a4aff7f2
CATEGORIES:FanClub-Termine
CREATED:20250506T204842
SUMMARY:Saisonabschlussfeier
DESCRIPTION:Am Samstag, 24.05.2025, findet ab 19 Uhr im Gasthaus Rothneichner wieder un
 sere Saisonabschlussfeier statt.\nIch bin guter Dinge, dass wir die Bezeich
 nung dieser Veranstaltung nach dem kommenden Wochenende wieder in die Altbe
 kannte ändern können.\nDeswegen und weil es schon gute Tradition ist, ladet
  euch hier der Fanclub auf die traditionelle "Freimaß" (2 Freigetränke) und
  ein Essen ein.\nDie Vorstandschaft freut sich auf euer zahlreiches Kommen.
 \n
X-ALT-DESC;FMTTYPE=text/html:<p>Am Samstag, 24.05.2025, findet ab 19 Uhr im Gasthaus Rothneichner wieder
  unsere Saisonabschlussfeier statt.</p><p>Ich bin guter Dinge, dass wir die
  Bezeichnung dieser Veranstaltung nach dem kommenden Wochenende wieder in d
 ie Altbekannte ändern können.</p><p>Deswegen und weil es schon gute Traditi
 on ist, ladet euch hier der Fanclub auf die traditionelle "Freimaß" (2 Frei
 getränke) und ein Essen ein.</p><p>Die Vorstandschaft freut sich auf euer z
 ahlreiches Kommen.</p>
DTSTAMP:20260422T043944
DTSTART;TZID=Europe/Berlin:20250524T190000
SEQUENCE:0
TRANSP:OPAQUE
END:VEVENT
END:VCALENDAR