BEGIN:VCALENDAR
VERSION:2.0
PRODID:-//jEvents 2.0 for Joomla//EN
CALSCALE:GREGORIAN
METHOD:PUBLISH
BEGIN:VTIMEZONE
TZID:Europe/Berlin
BEGIN:STANDARD
DTSTART:20241027T020000
RDATE:20250330T030000
TZOFFSETFROM:+0200
TZOFFSETTO:+0100
TZNAME:Europe/Berlin CET
END:STANDARD
BEGIN:DAYLIGHT
DTSTART:20240523T000000
RDATE:20241027T020000
TZOFFSETFROM:+0100
TZOFFSETTO:+0200
TZNAME:Europe/Berlin CEST
END:DAYLIGHT
END:VTIMEZONE
BEGIN:VEVENT
UID:76ece745093ea40c8aaf86e53c35fc8e
CATEGORIES:FanClub-Termine
CREATED:20250506T205102
SUMMARY:125-Jahre-FC-Bayern-München im Bayern-Park
DESCRIPTION:Auch am Samstag, 24.05.2025, findet im Bayern-Park in Reisbach eine große V
 eranstaltung zu Ehren von 125 Jahren FC Bayern München statt.\nOrganisiert 
 wird das ganze von unserem Nachbar-Fanclub aus Taubenbach.\nAufgrund der Te
 rminüberschneidung mit unserer Saisonabschlussfeier wird vom Fanclub aus ni
 chts organisiert.\nSolltet ihr trotzdem Interesse an dieser Veranstaltung h
 aben, habe ich euch unten die E-Mail dazu dran gehängt.\nAnreise und Anmeld
 ung (per Link in der Mail) wäre hier in Eigenregie.\n
X-ALT-DESC;FMTTYPE=text/html:<p>Auch am Samstag, 24.05.2025, findet im Bayern-Park in Reisbach eine groß
 e Veranstaltung zu Ehren von 125 Jahren FC Bayern München statt.</p><p>Orga
 nisiert wird das ganze von unserem Nachbar-Fanclub aus Taubenbach.</p><p>Au
 fgrund der Terminüberschneidung mit unserer Saisonabschlussfeier wird vom F
 anclub aus nichts organisiert.</p><p>Solltet ihr trotzdem Interesse an dies
 er Veranstaltung haben, habe ich euch unten die E-Mail dazu dran gehängt.</
 p><p>Anreise und Anmeldung (per Link in der Mail) wäre hier in Eigenregie.<
 /p>
DTSTAMP:20260422T042300
DTSTART;TZID=Europe/Berlin;VALUE=DATE:20250524
DTEND;TZID=Europe/Berlin;VALUE=DATE:20250525
SEQUENCE:0
TRANSP:OPAQUE
END:VEVENT
END:VCALENDAR